Package: ggtreeExtra Version: 1.14.0 Command: rm -rf ggtreeExtra.buildbin-libdir && mkdir ggtreeExtra.buildbin-libdir && /Users/biocbuild/BBS/utils/build-universal.sh ggtreeExtra_1.14.0.tar.gz /Library/Frameworks/R.framework/Resources/bin/R ggtreeExtra.buildbin-libdir StartedAt: 2024-06-11 11:27:04 -0400 (Tue, 11 Jun 2024) EndedAt: 2024-06-11 11:27:18 -0400 (Tue, 11 Jun 2024) EllapsedTime: 14.6 seconds RetCode: 0 Status: OK PackageFile: ggtreeExtra_1.14.0.tgz PackageFileSize: 1.039 MiB