Package: ggtreeExtra Version: 1.14.0 Command: /Library/Frameworks/R.framework/Resources/bin/R CMD build --keep-empty-dirs --no-resave-data ggtreeExtra StartedAt: 2024-06-09 22:13:10 -0400 (Sun, 09 Jun 2024) EndedAt: 2024-06-09 22:13:39 -0400 (Sun, 09 Jun 2024) EllapsedTime: 28.3 seconds RetCode: 0 Status: OK PackageFile: ggtreeExtra_1.14.0.tar.gz PackageFileSize: 933.1 KiB