Package: ggtreeExtra Version: 1.14.0 Command: /Library/Frameworks/R.framework/Resources/bin/R CMD check --install=check:ggtreeExtra.install-out.txt --library=/Library/Frameworks/R.framework/Resources/library --no-vignettes --timings ggtreeExtra_1.14.0.tar.gz StartedAt: 2024-06-09 20:40:28 -0400 (Sun, 09 Jun 2024) EndedAt: 2024-06-09 20:41:28 -0400 (Sun, 09 Jun 2024) EllapsedTime: 60.2 seconds RetCode: 0 Status: OK CheckDir: ggtreeExtra.Rcheck Warnings: 0