Package: ggtreeExtra Version: 1.14.0 Command: /Library/Frameworks/R.framework/Resources/bin/R CMD build --keep-empty-dirs --no-resave-data ggtreeExtra StartedAt: 2024-10-16 19:36:56 -0400 (Wed, 16 Oct 2024) EndedAt: 2024-10-16 19:37:43 -0400 (Wed, 16 Oct 2024) EllapsedTime: 46.9 seconds RetCode: 0 Status: OK PackageFile: ggtreeExtra_1.14.0.tar.gz PackageFileSize: 932.8 KiB