Package: ggtreeExtra Version: 1.14.0 Command: rm -rf ggtreeExtra.buildbin-libdir && mkdir ggtreeExtra.buildbin-libdir && F:\biocbuild\bbs-3.19-bioc\R\bin\R.exe CMD INSTALL --build --library=ggtreeExtra.buildbin-libdir ggtreeExtra_1.14.0.tar.gz StartedAt: 2024-06-27 08:17:45 -0400 (Thu, 27 Jun 2024) EndedAt: 2024-06-27 08:17:56 -0400 (Thu, 27 Jun 2024) EllapsedTime: 11.0 seconds RetCode: 0 Status: OK PackageFile: ggtreeExtra_1.14.0.zip PackageFileSize: 333.5 KiB