Package: ggtreeExtra Version: 1.14.0 Command: chmod a+r ggtreeExtra -R && F:\biocbuild\bbs-3.19-bioc\R\bin\R.exe CMD build --keep-empty-dirs --no-resave-data ggtreeExtra StartedAt: 2024-06-26 19:13:07 -0400 (Wed, 26 Jun 2024) EndedAt: 2024-06-26 19:13:35 -0400 (Wed, 26 Jun 2024) EllapsedTime: 27.8 seconds RetCode: 0 Status: OK PackageFile: ggtreeExtra_1.14.0.tar.gz PackageFileSize: 200.1 KiB