Package: ggtreeSpace Version: 1.0.0 Command: /Library/Frameworks/R.framework/Resources/bin/R CMD build --keep-empty-dirs --no-resave-data ggtreeSpace StartedAt: 2024-10-17 01:21:59 -0400 (Thu, 17 Oct 2024) EndedAt: 2024-10-17 01:22:20 -0400 (Thu, 17 Oct 2024) EllapsedTime: 21.2 seconds RetCode: 0 Status: OK PackageFile: ggtreeSpace_1.0.0.tar.gz PackageFileSize: 552 KiB