Package: ggtreeSpace Version: 1.0.0 Command: /home/biocbuild/bbs-3.19-bioc/R/bin/R CMD build --keep-empty-dirs --no-resave-data ggtreeSpace StartedAt: 2024-10-16 18:44:12 -0400 (Wed, 16 Oct 2024) EndedAt: 2024-10-16 18:44:28 -0400 (Wed, 16 Oct 2024) EllapsedTime: 16.1 seconds RetCode: 0 Status: OK PackageFile: ggtreeSpace_1.0.0.tar.gz PackageFileSize: 427.5 KiB