Package: globalSeq Version: 1.32.0 Maintainer: Armin Rauschenberger MaintainerEmail: armin.rauschenberger at uni.lu git_url: https://git.bioconductor.org/packages/globalSeq git_branch: RELEASE_3_19 git_last_commit: b5433fd git_last_commit_date: 2024-04-30 10:46:45 -0400 (Tue, 30 Apr 2024)