Package: globalSeq Version: 1.32.0 Command: rm -rf globalSeq.buildbin-libdir && mkdir globalSeq.buildbin-libdir && /Users/biocbuild/BBS/utils/build-universal.sh globalSeq_1.32.0.tar.gz /Library/Frameworks/R.framework/Resources/bin/R globalSeq.buildbin-libdir StartedAt: 2024-10-18 18:45:27 -0400 (Fri, 18 Oct 2024) EndedAt: 2024-10-18 18:45:31 -0400 (Fri, 18 Oct 2024) EllapsedTime: 4.5 seconds RetCode: 0 Status: OK PackageFile: globalSeq_1.32.0.tgz PackageFileSize: 709.9 KiB