Package: globalSeq Version: 1.32.0 Command: rm -rf globalSeq.buildbin-libdir && mkdir globalSeq.buildbin-libdir && /Users/biocbuild/BBS/utils/build-universal.sh globalSeq_1.32.0.tar.gz /Library/Frameworks/R.framework/Resources/bin/R globalSeq.buildbin-libdir StartedAt: 2024-06-11 11:27:41 -0400 (Tue, 11 Jun 2024) EndedAt: 2024-06-11 11:27:49 -0400 (Tue, 11 Jun 2024) EllapsedTime: 7.9 seconds RetCode: 0 Status: OK PackageFile: globalSeq_1.32.0.tgz PackageFileSize: 709.3 KiB