Package: globaltest Version: 5.58.0 Command: /Library/Frameworks/R.framework/Resources/bin/R CMD build --keep-empty-dirs --no-resave-data globaltest StartedAt: 2024-10-17 01:28:57 -0400 (Thu, 17 Oct 2024) EndedAt: 2024-10-17 02:08:58 -0400 (Thu, 17 Oct 2024) EllapsedTime: 2400.9 seconds RetCode: None Status: TIMEOUT PackageFile: None PackageFileSize: NA