Package: globaltest Version: 5.58.0 Command: /Library/Frameworks/R.framework/Resources/bin/R CMD build --keep-empty-dirs --no-resave-data globaltest StartedAt: 2024-06-09 22:17:16 -0400 (Sun, 09 Jun 2024) EndedAt: 2024-06-09 22:57:16 -0400 (Sun, 09 Jun 2024) EllapsedTime: 2400.2 seconds RetCode: None Status: TIMEOUT PackageFile: None PackageFileSize: NA