Package: globaltest Version: 5.58.0 Command: /home/biocbuild/R/R-beta-2024-04-15_r86425/bin/R CMD build --keep-empty-dirs --no-resave-data globaltest StartedAt: 2024-05-09 00:39:04 -0000 (Thu, 09 May 2024) EndedAt: 2024-05-09 00:44:43 -0000 (Thu, 09 May 2024) EllapsedTime: 338.4 seconds RetCode: 0 Status: OK PackageFile: globaltest_5.58.0.tar.gz PackageFileSize: 547.9 KiB