Package: globaltest Version: 5.58.0 Command: /Library/Frameworks/R.framework/Resources/bin/R CMD check --install=check:globaltest.install-out.txt --library=/Library/Frameworks/R.framework/Resources/library --no-vignettes --timings globaltest_5.58.0.tar.gz StartedAt: 2024-06-09 20:41:51 -0400 (Sun, 09 Jun 2024) EndedAt: 2024-06-09 20:44:07 -0400 (Sun, 09 Jun 2024) EllapsedTime: 136.3 seconds RetCode: 0 Status: OK CheckDir: globaltest.Rcheck Warnings: 0