Package: globaltest Version: 5.58.0 Command: rm -rf globaltest.buildbin-libdir && mkdir globaltest.buildbin-libdir && /Users/biocbuild/BBS/utils/build-universal.sh globaltest_5.58.0.tar.gz /Library/Frameworks/R.framework/Resources/bin/R globaltest.buildbin-libdir StartedAt: 2024-10-17 16:17:08 -0400 (Thu, 17 Oct 2024) EndedAt: 2024-10-17 16:18:12 -0400 (Thu, 17 Oct 2024) EllapsedTime: 64.7 seconds RetCode: 0 Status: OK PackageFile: globaltest_5.58.0.tgz PackageFileSize: 1.12 MiB