Package: globaltest Version: 5.58.0 Command: /Library/Frameworks/R.framework/Resources/bin/R CMD build --keep-empty-dirs --no-resave-data globaltest StartedAt: 2024-10-16 19:38:43 -0400 (Wed, 16 Oct 2024) EndedAt: 2024-10-16 19:50:31 -0400 (Wed, 16 Oct 2024) EllapsedTime: 707.9 seconds RetCode: 0 Status: OK PackageFile: globaltest_5.58.0.tar.gz PackageFileSize: 557.8 KiB