Package: globaltest Version: 5.58.0 Command: rm -rf globaltest.buildbin-libdir && mkdir globaltest.buildbin-libdir && F:\biocbuild\bbs-3.19-bioc\R\bin\R.exe CMD INSTALL --build --library=globaltest.buildbin-libdir globaltest_5.58.0.tar.gz StartedAt: 2024-06-27 08:18:12 -0400 (Thu, 27 Jun 2024) EndedAt: 2024-06-27 08:18:44 -0400 (Thu, 27 Jun 2024) EllapsedTime: 32.3 seconds RetCode: 0 Status: OK PackageFile: globaltest_5.58.0.zip PackageFileSize: 1.125 MiB