Package: globaltest Version: 5.58.0 Command: chmod a+r globaltest -R && F:\biocbuild\bbs-3.19-bioc\R\bin\R.exe CMD build --keep-empty-dirs --no-resave-data globaltest StartedAt: 2024-06-26 19:14:36 -0400 (Wed, 26 Jun 2024) EndedAt: 2024-06-26 19:20:55 -0400 (Wed, 26 Jun 2024) EllapsedTime: 378.3 seconds RetCode: 0 Status: OK PackageFile: globaltest_5.58.0.tar.gz PackageFileSize: 562.2 KiB