Package: globaltest Version: 5.58.0 Command: chmod a+r globaltest -R && E:\biocbuild\bbs-3.19-bioc\R\bin\R.exe CMD build --keep-empty-dirs --no-resave-data globaltest StartedAt: 2024-10-16 19:29:41 -0400 (Wed, 16 Oct 2024) EndedAt: 2024-10-16 19:33:45 -0400 (Wed, 16 Oct 2024) EllapsedTime: 243.8 seconds RetCode: 0 Status: OK PackageFile: globaltest_5.58.0.tar.gz PackageFileSize: 562.2 KiB