Package: gmapR Version: 1.46.0 Command: rm -rf gmapR.buildbin-libdir && mkdir gmapR.buildbin-libdir && /Users/biocbuild/BBS/utils/build-universal.sh gmapR_1.46.0.tar.gz /Library/Frameworks/R.framework/Resources/bin/R gmapR.buildbin-libdir StartedAt: 2024-10-18 18:45:31 -0400 (Fri, 18 Oct 2024) EndedAt: 2024-10-18 18:55:08 -0400 (Fri, 18 Oct 2024) EllapsedTime: 576.9 seconds RetCode: 0 Status: OK PackageFile: gmapR_1.46.0.tgz PackageFileSize: 22.23 MiB