Package: gmapR Version: 1.46.0 Command: /Library/Frameworks/R.framework/Resources/bin/R CMD build --keep-empty-dirs --no-resave-data gmapR StartedAt: 2024-10-17 01:30:14 -0400 (Thu, 17 Oct 2024) EndedAt: 2024-10-17 01:38:22 -0400 (Thu, 17 Oct 2024) EllapsedTime: 487.6 seconds RetCode: 0 Status: OK PackageFile: gmapR_1.46.0.tar.gz PackageFileSize: 25.68 MiB