Package: gmoviz Version: 1.16.0 Command: /home/biocbuild/R/R-beta-2024-04-15_r86425/bin/R CMD check --install=check:gmoviz.install-out.txt --library=/home/biocbuild/R/R-beta-2024-04-15_r86425/site-library --no-vignettes --timings gmoviz_1.16.0.tar.gz StartedAt: 2024-05-09 07:58:48 -0000 (Thu, 09 May 2024) EndedAt: 2024-05-09 08:04:36 -0000 (Thu, 09 May 2024) EllapsedTime: 347.5 seconds RetCode: 0 Status: OK CheckDir: gmoviz.Rcheck Warnings: 0