Package: gmoviz Version: 1.16.0 Command: rm -rf gmoviz.buildbin-libdir && mkdir gmoviz.buildbin-libdir && /Users/biocbuild/BBS/utils/build-universal.sh gmoviz_1.16.0.tar.gz /Library/Frameworks/R.framework/Resources/bin/R gmoviz.buildbin-libdir StartedAt: 2024-10-17 16:17:13 -0400 (Thu, 17 Oct 2024) EndedAt: 2024-10-17 16:18:50 -0400 (Thu, 17 Oct 2024) EllapsedTime: 97.7 seconds RetCode: 0 Status: OK PackageFile: gmoviz_1.16.0.tgz PackageFileSize: 6.75 MiB