Package: gmoviz Version: 1.16.0 Command: chmod a+r gmoviz -R && F:\biocbuild\bbs-3.19-bioc\R\bin\R.exe CMD build --keep-empty-dirs --no-resave-data gmoviz StartedAt: 2024-06-26 19:15:00 -0400 (Wed, 26 Jun 2024) EndedAt: 2024-06-26 19:17:00 -0400 (Wed, 26 Jun 2024) EllapsedTime: 120.5 seconds RetCode: 0 Status: OK PackageFile: gmoviz_1.16.0.tar.gz PackageFileSize: 4.717 MiB