Package: gmoviz Version: 1.16.0 Command: E:\biocbuild\bbs-3.19-bioc\R\bin\R.exe CMD INSTALL gmoviz StartedAt: 2024-10-16 16:47:40 -0400 (Wed, 16 Oct 2024) EndedAt: 2024-10-16 16:48:27 -0400 (Wed, 16 Oct 2024) EllapsedTime: 47.6 seconds RetCode: 0 Status: OK