Package: goProfiles Version: 1.66.0 Command: /Library/Frameworks/R.framework/Resources/bin/R CMD build --keep-empty-dirs --no-resave-data goProfiles StartedAt: 2024-10-16 19:40:57 -0400 (Wed, 16 Oct 2024) EndedAt: 2024-10-16 19:42:32 -0400 (Wed, 16 Oct 2024) EllapsedTime: 95.0 seconds RetCode: 0 Status: OK PackageFile: goProfiles_1.66.0.tar.gz PackageFileSize: 288.4 KiB