Package: goseq Version: 1.56.0 Command: chmod a+r goseq -R && E:\biocbuild\bbs-3.19-bioc\R\bin\R.exe CMD build --keep-empty-dirs --no-resave-data goseq StartedAt: 2024-10-16 19:31:16 -0400 (Wed, 16 Oct 2024) EndedAt: 2024-10-16 19:36:10 -0400 (Wed, 16 Oct 2024) EllapsedTime: 293.7 seconds RetCode: 0 Status: OK PackageFile: goseq_1.56.0.tar.gz PackageFileSize: 1.694 MiB