Package: goseq Version: 1.56.0 Command: E:\biocbuild\bbs-3.19-bioc\R\bin\R.exe CMD INSTALL goseq StartedAt: 2024-10-16 16:40:54 -0400 (Wed, 16 Oct 2024) EndedAt: 2024-10-16 16:41:33 -0400 (Wed, 16 Oct 2024) EllapsedTime: 39.2 seconds RetCode: 0 Status: OK