Package: gpls Version: 1.76.0 Command: rm -rf gpls.buildbin-libdir && mkdir gpls.buildbin-libdir && /Users/biocbuild/BBS/utils/build-universal.sh gpls_1.76.0.tar.gz /Library/Frameworks/R.framework/Resources/bin/R gpls.buildbin-libdir StartedAt: 2024-10-18 18:48:40 -0400 (Fri, 18 Oct 2024) EndedAt: 2024-10-18 18:48:45 -0400 (Fri, 18 Oct 2024) EllapsedTime: 4.6 seconds RetCode: 0 Status: OK PackageFile: gpls_1.76.0.tgz PackageFileSize: 294.6 KiB