Package: gpls Version: 1.76.0 Command: /Library/Frameworks/R.framework/Resources/bin/R CMD build --keep-empty-dirs --no-resave-data gpls StartedAt: 2024-10-17 01:45:41 -0400 (Thu, 17 Oct 2024) EndedAt: 2024-10-17 01:45:57 -0400 (Thu, 17 Oct 2024) EllapsedTime: 15.9 seconds RetCode: 0 Status: OK PackageFile: gpls_1.76.0.tar.gz PackageFileSize: 233.2 KiB