Package: gpls Version: 1.76.0 Command: /Library/Frameworks/R.framework/Resources/bin/R CMD check --install=check:gpls.install-out.txt --library=/Library/Frameworks/R.framework/Resources/library --no-vignettes --timings gpls_1.76.0.tar.gz StartedAt: 2024-10-17 23:48:48 -0400 (Thu, 17 Oct 2024) EndedAt: 2024-10-17 23:49:16 -0400 (Thu, 17 Oct 2024) EllapsedTime: 27.3 seconds RetCode: 0 Status: WARNINGS CheckDir: gpls.Rcheck Warnings: 1