Package: gpls Version: 1.76.0 Command: /home/biocbuild/R/R-beta-2024-04-15_r86425/bin/R CMD INSTALL gpls StartedAt: 2024-05-08 20:02:19 -0000 (Wed, 08 May 2024) EndedAt: 2024-05-08 20:02:32 -0000 (Wed, 08 May 2024) EllapsedTime: 13.0 seconds RetCode: 0 Status: OK