Package: gpls Version: 1.76.0 Command: rm -rf gpls.buildbin-libdir && mkdir gpls.buildbin-libdir && /Users/biocbuild/BBS/utils/build-universal.sh gpls_1.76.0.tar.gz /Library/Frameworks/R.framework/Resources/bin/R gpls.buildbin-libdir StartedAt: 2024-06-10 00:21:04 -0400 (Mon, 10 Jun 2024) EndedAt: 2024-06-10 00:21:08 -0400 (Mon, 10 Jun 2024) EllapsedTime: 4.5 seconds RetCode: 0 Status: OK PackageFile: gpls_1.76.0.tgz PackageFileSize: 294 KiB