Package: gpls Version: 1.76.0 Command: rm -rf gpls.buildbin-libdir && mkdir gpls.buildbin-libdir && /Users/biocbuild/BBS/utils/build-universal.sh gpls_1.76.0.tar.gz /Library/Frameworks/R.framework/Resources/bin/R gpls.buildbin-libdir StartedAt: 2024-10-17 16:18:18 -0400 (Thu, 17 Oct 2024) EndedAt: 2024-10-17 16:18:24 -0400 (Thu, 17 Oct 2024) EllapsedTime: 6.6 seconds RetCode: 0 Status: OK PackageFile: gpls_1.76.0.tgz PackageFileSize: 294.6 KiB