Package: gpls Version: 1.76.0 Command: rm -rf gpls.buildbin-libdir && mkdir gpls.buildbin-libdir && F:\biocbuild\bbs-3.19-bioc\R\bin\R.exe CMD INSTALL --build --library=gpls.buildbin-libdir gpls_1.76.0.tar.gz StartedAt: 2024-06-27 08:18:58 -0400 (Thu, 27 Jun 2024) EndedAt: 2024-06-27 08:19:03 -0400 (Thu, 27 Jun 2024) EllapsedTime: 5.7 seconds RetCode: 0 Status: OK PackageFile: gpls_1.76.0.zip PackageFileSize: 168.1 KiB