Package: gpls Version: 1.76.0 Command: F:\biocbuild\bbs-3.19-bioc\R\bin\R.exe CMD check --no-multiarch --install=check:gpls.install-out.txt --library=F:\biocbuild\bbs-3.19-bioc\R\library --no-vignettes --timings gpls_1.76.0.tar.gz StartedAt: 2024-06-27 02:19:36 -0400 (Thu, 27 Jun 2024) EndedAt: 2024-06-27 02:20:07 -0400 (Thu, 27 Jun 2024) EllapsedTime: 30.2 seconds RetCode: 0 Status: WARNINGS CheckDir: gpls.Rcheck Warnings: 1