Package: gpls Version: 1.76.0 Command: chmod a+r gpls -R && E:\biocbuild\bbs-3.19-bioc\R\bin\R.exe CMD build --keep-empty-dirs --no-resave-data gpls StartedAt: 2024-10-16 19:32:34 -0400 (Wed, 16 Oct 2024) EndedAt: 2024-10-16 19:32:50 -0400 (Wed, 16 Oct 2024) EllapsedTime: 16.1 seconds RetCode: 0 Status: OK PackageFile: gpls_1.76.0.tar.gz PackageFileSize: 103.4 KiB