Package: graph Version: 1.82.0 Command: /Library/Frameworks/R.framework/Resources/bin/R CMD build --keep-empty-dirs --no-resave-data graph StartedAt: 2024-10-17 01:50:03 -0400 (Thu, 17 Oct 2024) EndedAt: 2024-10-17 01:50:44 -0400 (Thu, 17 Oct 2024) EllapsedTime: 40.9 seconds RetCode: 0 Status: OK PackageFile: graph_1.82.0.tar.gz PackageFileSize: 1.435 MiB