Package: graph Version: 1.82.0 Command: /Library/Frameworks/R.framework/Resources/bin/R CMD build --keep-empty-dirs --no-resave-data graph StartedAt: 2024-10-16 19:45:03 -0400 (Wed, 16 Oct 2024) EndedAt: 2024-10-16 19:46:30 -0400 (Wed, 16 Oct 2024) EllapsedTime: 87.0 seconds RetCode: 0 Status: OK PackageFile: graph_1.82.0.tar.gz PackageFileSize: 1.435 MiB