Package: graph Version: 1.82.0 Command: rm -rf graph.buildbin-libdir && mkdir graph.buildbin-libdir && E:\biocbuild\bbs-3.19-bioc\R\bin\R.exe CMD INSTALL --build --library=graph.buildbin-libdir graph_1.82.0.tar.gz StartedAt: 2024-10-17 07:55:02 -0400 (Thu, 17 Oct 2024) EndedAt: 2024-10-17 07:56:27 -0400 (Thu, 17 Oct 2024) EllapsedTime: 85.4 seconds RetCode: 0 Status: OK PackageFile: graph_1.82.0.zip PackageFileSize: 2.072 MiB