Package: graph Version: 1.82.0 Command: chmod a+r graph -R && E:\biocbuild\bbs-3.19-bioc\R\bin\R.exe CMD build --keep-empty-dirs --no-resave-data graph StartedAt: 2024-10-16 19:33:32 -0400 (Wed, 16 Oct 2024) EndedAt: 2024-10-16 19:34:43 -0400 (Wed, 16 Oct 2024) EllapsedTime: 70.8 seconds RetCode: 0 Status: OK PackageFile: graph_1.82.0.tar.gz PackageFileSize: 1.394 MiB