Package: groHMM Version: 1.38.0 Command: /home/biocbuild/R/R-beta-2024-04-15_r86425/bin/R CMD build --keep-empty-dirs --no-resave-data groHMM StartedAt: 2024-05-09 00:48:40 -0000 (Thu, 09 May 2024) EndedAt: 2024-05-09 00:51:24 -0000 (Thu, 09 May 2024) EllapsedTime: 164.2 seconds RetCode: 0 Status: OK PackageFile: groHMM_1.38.0.tar.gz PackageFileSize: 4.149 MiB