Package: groHMM Version: 1.38.0 Command: /home/biocbuild/bbs-3.19-bioc/R/bin/R CMD build --keep-empty-dirs --no-resave-data groHMM StartedAt: 2024-10-16 18:51:18 -0400 (Wed, 16 Oct 2024) EndedAt: 2024-10-16 18:53:16 -0400 (Wed, 16 Oct 2024) EllapsedTime: 118.3 seconds RetCode: 0 Status: OK PackageFile: groHMM_1.38.0.tar.gz PackageFileSize: 4.158 MiB