Package: groHMM Version: 1.38.0 Command: /home/biocbuild/bbs-3.19-bioc/R/bin/R CMD INSTALL groHMM StartedAt: 2024-10-16 16:04:08 -0400 (Wed, 16 Oct 2024) EndedAt: 2024-10-16 16:04:39 -0400 (Wed, 16 Oct 2024) EllapsedTime: 31.0 seconds RetCode: 0 Status: OK