Package: groHMM Version: 1.38.0 Command: rm -rf groHMM.buildbin-libdir && mkdir groHMM.buildbin-libdir && F:\biocbuild\bbs-3.19-bioc\R\bin\R.exe CMD INSTALL --build --library=groHMM.buildbin-libdir groHMM_1.38.0.tar.gz StartedAt: 2024-06-27 08:19:29 -0400 (Thu, 27 Jun 2024) EndedAt: 2024-06-27 08:20:25 -0400 (Thu, 27 Jun 2024) EllapsedTime: 55.5 seconds RetCode: 0 Status: OK PackageFile: groHMM_1.38.0.zip PackageFileSize: 4.258 MiB