Package: groHMM Version: 1.38.0 Command: F:\biocbuild\bbs-3.19-bioc\R\bin\R.exe CMD check --no-multiarch --install=check:groHMM.install-out.txt --library=F:\biocbuild\bbs-3.19-bioc\R\library --no-vignettes --timings groHMM_1.38.0.tar.gz StartedAt: 2024-06-27 02:22:30 -0400 (Thu, 27 Jun 2024) EndedAt: 2024-06-27 02:26:46 -0400 (Thu, 27 Jun 2024) EllapsedTime: 256.2 seconds RetCode: 0 Status: WARNINGS CheckDir: groHMM.Rcheck Warnings: 1