Package: groHMM Version: 1.38.0 Command: rm -rf groHMM.buildbin-libdir && mkdir groHMM.buildbin-libdir && E:\biocbuild\bbs-3.19-bioc\R\bin\R.exe CMD INSTALL --build --library=groHMM.buildbin-libdir groHMM_1.38.0.tar.gz StartedAt: 2024-10-17 07:55:17 -0400 (Thu, 17 Oct 2024) EndedAt: 2024-10-17 07:56:12 -0400 (Thu, 17 Oct 2024) EllapsedTime: 54.7 seconds RetCode: 0 Status: OK PackageFile: groHMM_1.38.0.zip PackageFileSize: 4.259 MiB