Package: groHMM Version: 1.38.0 Command: chmod a+r groHMM -R && E:\biocbuild\bbs-3.19-bioc\R\bin\R.exe CMD build --keep-empty-dirs --no-resave-data groHMM StartedAt: 2024-10-16 19:34:10 -0400 (Wed, 16 Oct 2024) EndedAt: 2024-10-16 19:39:00 -0400 (Wed, 16 Oct 2024) EllapsedTime: 289.1 seconds RetCode: 0 Status: OK PackageFile: groHMM_1.38.0.tar.gz PackageFileSize: 4.14 MiB