Package: gscreend Version: 1.18.0 Command: /Library/Frameworks/R.framework/Resources/bin/R CMD build --keep-empty-dirs --no-resave-data gscreend StartedAt: 2024-06-09 22:36:09 -0400 (Sun, 09 Jun 2024) EndedAt: 2024-06-09 22:39:01 -0400 (Sun, 09 Jun 2024) EllapsedTime: 171.7 seconds RetCode: 0 Status: OK PackageFile: gscreend_1.18.0.tar.gz PackageFileSize: 3.113 MiB